BEGIN:VCALENDAR
VERSION:2.0
PRODID:-//Sophicity/Tribune/Lithonia, GA
BEGIN:VEVENT
DTSTAMP:20260423T145233Z
UID:bc90973f-9ce3-420f-8b90-a9282563f984-4159
DTSTART:20230615T150000Z
DTEND:20230615T160000Z
CLASS:PUBLIC
SUMMARY:Millage Rate Public Hearing 11:00 am
END:VEVENT
END:VCALENDAR
