BEGIN:VCALENDAR
VERSION:2.0
PRODID:-//Sophicity/Tribune/Lithonia, GA
BEGIN:VEVENT
DTSTAMP:20260423T145316Z
UID:bc90973f-9ce3-420f-8b90-a9282563f984-4158
DTSTART:20230612T150000Z
DTEND:20230612T160000Z
CLASS:PUBLIC
SUMMARY:Budget Work Session 11:00
END:VEVENT
END:VCALENDAR
