BEGIN:VCALENDAR
VERSION:2.0
PRODID:-//Sophicity/Tribune/Lithonia, GA
BEGIN:VEVENT
DTSTAMP:20260423T145056Z
UID:bc90973f-9ce3-420f-8b90-a9282563f984-4154
DTSTART:20230708T160000Z
DTEND:20230708T200000Z
LOCATION:Downtown Main Street
CLASS:PUBLIC
SUMMARY:Lithonia Market On Main
END:VEVENT
END:VCALENDAR
