BEGIN:VCALENDAR
VERSION:2.0
PRODID:-//Sophicity/Tribune/Lithonia, GA
BEGIN:VEVENT
DTSTAMP:20260423T193443Z
UID:bc90973f-9ce3-420f-8b90-a9282563f984-4120
DTSTART:20231007T220000Z
DTEND:20231008T030000Z
LOCATION:Lithonia Amphitheater
CLASS:PUBLIC
SUMMARY:Students without Mothers Benefit Concert
END:VEVENT
END:VCALENDAR
