BEGIN:VCALENDAR
VERSION:2.0
PRODID:-//Sophicity/Tribune/Lithonia, GA
BEGIN:VEVENT
DTSTAMP:20260423T180016Z
UID:bc90973f-9ce3-420f-8b90-a9282563f984-4118
DTSTART:20230819T220000Z
DTEND:20230820T030000Z
LOCATION:Lithonia Amphitheater
CLASS:PUBLIC
SUMMARY:Groovin' on the Green - Talent TBA
END:VEVENT
END:VCALENDAR
