BEGIN:VCALENDAR
VERSION:2.0
PRODID:-//Sophicity/Tribune/Lithonia, GA
BEGIN:VEVENT
DTSTAMP:20260423T162713Z
UID:bc90973f-9ce3-420f-8b90-a9282563f984-4116
DTSTART:20230722T220000Z
DTEND:20230723T035900Z
LOCATION:Lithonia Amphitheater
CLASS:PUBLIC
SUMMARY:Groovin' on the Green with Syleena Johnson and Ken Ford 
END:VEVENT
END:VCALENDAR
