BEGIN:VCALENDAR
VERSION:2.0
PRODID:-//Sophicity/Tribune/Lithonia, GA
BEGIN:VEVENT
DTSTAMP:20260423T144306Z
UID:bc90973f-9ce3-420f-8b90-a9282563f984-4115
DTSTART:20230618T160000Z
DTEND:20230619T000000Z
LOCATION:Lithonia Amphitheater
CLASS:PUBLIC
SUMMARY:Family Fun Day with Mikey Sparkle
END:VEVENT
END:VCALENDAR
