BEGIN:VCALENDAR
VERSION:2.0
PRODID:-//Sophicity/Tribune/Lithonia, GA
BEGIN:VEVENT
DTSTAMP:20260423T121001Z
UID:bc90973f-9ce3-420f-8b90-a9282563f984-4112
DTSTART:20230427T210000Z
DTEND:20230428T000000Z
LOCATION:Lithonia Amphitheater
CLASS:PUBLIC
SUMMARY:Trucks and Tunes
END:VEVENT
END:VCALENDAR
