BEGIN:VCALENDAR
VERSION:2.0
PRODID:-//Sophicity/Tribune/Lithonia, GA
BEGIN:VEVENT
DTSTAMP:20260423T133036Z
UID:bc90973f-9ce3-420f-8b90-a9282563f984-4111
DTSTART:20230603T210000Z
DTEND:20230604T000000Z
LOCATION:Lithonia Amphitheater
CLASS:PUBLIC
SUMMARY:Groovin' on the Green with the Original Lakeside Band and Con Funk Shun
END:VEVENT
END:VCALENDAR
