BEGIN:VCALENDAR
VERSION:2.0
PRODID:-//Sophicity/Tribune/Lithonia, GA
BEGIN:VEVENT
DTSTAMP:20260423T162748Z
UID:bc90973f-9ce3-420f-8b90-a9282563f984-4108
DTSTART:20231225T050000Z
DTEND:20231226T045900Z
CLASS:PUBLIC
SUMMARY:Christmas Day
END:VEVENT
END:VCALENDAR
