BEGIN:VCALENDAR
VERSION:2.0
PRODID:-//Sophicity/Tribune/Lithonia, GA
BEGIN:VEVENT
DTSTAMP:20260423T162756Z
UID:bc90973f-9ce3-420f-8b90-a9282563f984-4107
DTSTART:20231221T050000Z
DTEND:20231222T045900Z
CLASS:PUBLIC
SUMMARY:First Day of Winter
END:VEVENT
END:VCALENDAR
