BEGIN:VCALENDAR
VERSION:2.0
PRODID:-//Sophicity/Tribune/Lithonia, GA
BEGIN:VEVENT
DTSTAMP:20260423T162643Z
UID:bc90973f-9ce3-420f-8b90-a9282563f984-4103
DTSTART:20231207T130000Z
DTEND:20231207T220000Z
CLASS:PUBLIC
SUMMARY:Pearl Harbor Day
END:VEVENT
END:VCALENDAR
