BEGIN:VCALENDAR
VERSION:2.0
PRODID:-//Sophicity/Tribune/Lithonia, GA
BEGIN:VEVENT
DTSTAMP:20260423T175857Z
UID:bc90973f-9ce3-420f-8b90-a9282563f984-4101
DTSTART:20231123T050000Z
DTEND:20231124T045900Z
CLASS:PUBLIC
SUMMARY:Thanksgiving Day
END:VEVENT
END:VCALENDAR
