BEGIN:VCALENDAR
VERSION:2.0
PRODID:-//Sophicity/Tribune/Lithonia, GA
BEGIN:VEVENT
DTSTAMP:20260423T175821Z
UID:bc90973f-9ce3-420f-8b90-a9282563f984-4100
DTSTART:20231121T223000Z
DTEND:20231121T233000Z
CLASS:PUBLIC
SUMMARY:Historic Preservation Committee Meeting 5:30 PM
END:VEVENT
END:VCALENDAR
