BEGIN:VCALENDAR
VERSION:2.0
PRODID:-//Sophicity/Tribune/Lithonia, GA
BEGIN:VEVENT
DTSTAMP:20260423T175047Z
UID:bc90973f-9ce3-420f-8b90-a9282563f984-4098
DTSTART:20231111T050000Z
DTEND:20231112T045900Z
CLASS:PUBLIC
SUMMARY:Veteran's Day
END:VEVENT
END:VCALENDAR
