BEGIN:VCALENDAR
VERSION:2.0
PRODID:-//Sophicity/Tribune/Lithonia, GA
BEGIN:VEVENT
DTSTAMP:20260423T175053Z
UID:bc90973f-9ce3-420f-8b90-a9282563f984-4097
DTSTART:20231107T120000Z
DTEND:20231108T000000Z
CLASS:PUBLIC
SUMMARY:Election Day
END:VEVENT
END:VCALENDAR
