BEGIN:VCALENDAR
VERSION:2.0
PRODID:-//Sophicity/Tribune/Lithonia, GA
BEGIN:VEVENT
DTSTAMP:20260423T175923Z
UID:bc90973f-9ce3-420f-8b90-a9282563f984-4096
DTSTART:20231105T040000Z
DTEND:20231106T045900Z
CLASS:PUBLIC
SUMMARY:Daylight Saving Times Ends
END:VEVENT
END:VCALENDAR
