BEGIN:VCALENDAR
VERSION:2.0
PRODID:-//Sophicity/Tribune/Lithonia, GA
BEGIN:VEVENT
DTSTAMP:20260423T174846Z
UID:bc90973f-9ce3-420f-8b90-a9282563f984-4095
DTSTART:20231031T120000Z
DTEND:20231031T210000Z
CLASS:PUBLIC
SUMMARY:Halloween
END:VEVENT
END:VCALENDAR
