BEGIN:VCALENDAR
VERSION:2.0
PRODID:-//Sophicity/Tribune/Lithonia, GA
BEGIN:VEVENT
DTSTAMP:20260423T193355Z
UID:bc90973f-9ce3-420f-8b90-a9282563f984-4094
DTSTART:20231021T040000Z
DTEND:20231022T035900Z
CLASS:PUBLIC
SUMMARY:Sweetest Day
END:VEVENT
END:VCALENDAR
