BEGIN:VCALENDAR
VERSION:2.0
PRODID:-//Sophicity/Tribune/Lithonia, GA
BEGIN:VEVENT
DTSTAMP:20260423T193405Z
UID:bc90973f-9ce3-420f-8b90-a9282563f984-4093
DTSTART:20231019T213000Z
DTEND:20231019T223000Z
CLASS:PUBLIC
SUMMARY:Lithonia Roundtable 5:30 PM
END:VEVENT
END:VCALENDAR
