BEGIN:VCALENDAR
VERSION:2.0
PRODID:-//Sophicity/Tribune/Lithonia, GA
BEGIN:VEVENT
DTSTAMP:20260423T193356Z
UID:bc90973f-9ce3-420f-8b90-a9282563f984-4091
DTSTART:20230923T040000Z
DTEND:20230924T035900Z
CLASS:PUBLIC
SUMMARY:First Day of Autumn
END:VEVENT
END:VCALENDAR
