BEGIN:VCALENDAR
VERSION:2.0
PRODID:-//Sophicity/Tribune/Lithonia, GA
BEGIN:VEVENT
DTSTAMP:20260423T175857Z
UID:bc90973f-9ce3-420f-8b90-a9282563f984-4087
DTSTART:20230905T213000Z
DTEND:20230905T223000Z
CLASS:PUBLIC
SUMMARY:City Council Meeting 5:30 PM
END:VEVENT
END:VCALENDAR
