BEGIN:VCALENDAR
VERSION:2.0
PRODID:-//Sophicity/Tribune/Lithonia, GA
BEGIN:VEVENT
DTSTAMP:20260423T175011Z
UID:bc90973f-9ce3-420f-8b90-a9282563f984-4086
DTSTART:20230904T120000Z
DTEND:20230904T210000Z
CLASS:PUBLIC
SUMMARY:Labor Day - OFFICES CLOSED
END:VEVENT
END:VCALENDAR
