BEGIN:VCALENDAR
VERSION:2.0
PRODID:-//Sophicity/Tribune/Lithonia, GA
BEGIN:VEVENT
DTSTAMP:20260423T175923Z
UID:bc90973f-9ce3-420f-8b90-a9282563f984-4082
DTSTART:20230807T120000Z
DTEND:20230807T210000Z
CLASS:PUBLIC
SUMMARY:Civic Day
END:VEVENT
END:VCALENDAR
