BEGIN:VCALENDAR
VERSION:2.0
PRODID:-//Sophicity/Tribune/Lithonia, GA
BEGIN:VEVENT
DTSTAMP:20260423T145316Z
UID:bc90973f-9ce3-420f-8b90-a9282563f984-4078
DTSTART:20230621T040000Z
DTEND:20230622T035900Z
CLASS:PUBLIC
SUMMARY:First Day of Summer
END:VEVENT
END:VCALENDAR
