BEGIN:VCALENDAR
VERSION:2.0
PRODID:-//Sophicity/Tribune/Lithonia, GA
BEGIN:VEVENT
DTSTAMP:20260423T144245Z
UID:bc90973f-9ce3-420f-8b90-a9282563f984-4076
DTSTART:20230619T120000Z
DTEND:20230619T210000Z
CLASS:PUBLIC
SUMMARY:Juneteenth - OFFICES CLOSED
END:VEVENT
END:VCALENDAR
