BEGIN:VCALENDAR
VERSION:2.0
PRODID:-//Sophicity/Tribune/Lithonia, GA
BEGIN:VEVENT
DTSTAMP:20260423T144348Z
UID:bc90973f-9ce3-420f-8b90-a9282563f984-4075
DTSTART:20230618T040000Z
DTEND:20230619T035900Z
CLASS:PUBLIC
SUMMARY:Father's Day
END:VEVENT
END:VCALENDAR
