BEGIN:VCALENDAR
VERSION:2.0
PRODID:-//Sophicity/Tribune/Lithonia, GA
BEGIN:VEVENT
DTSTAMP:20260423T132912Z
UID:bc90973f-9ce3-420f-8b90-a9282563f984-4074
DTSTART:20230529T120000Z
DTEND:20230529T210000Z
CLASS:PUBLIC
SUMMARY:Memorial Day Observed - OFFICES CLOSED
END:VEVENT
END:VCALENDAR
