BEGIN:VCALENDAR
VERSION:2.0
PRODID:-//Sophicity/Tribune/Lithonia, GA
BEGIN:VEVENT
DTSTAMP:20260423T132912Z
UID:bc90973f-9ce3-420f-8b90-a9282563f984-4071
DTSTART:20230514T040000Z
DTEND:20230515T035900Z
CLASS:PUBLIC
SUMMARY:Mother's Day
END:VEVENT
END:VCALENDAR
