BEGIN:VCALENDAR
VERSION:2.0
PRODID:-//Sophicity/Tribune/Lithonia, GA
BEGIN:VEVENT
DTSTAMP:20260423T120115Z
UID:bc90973f-9ce3-420f-8b90-a9282563f984-4067
DTSTART:20230418T223000Z
DTEND:20230418T233000Z
CLASS:PUBLIC
SUMMARY:Historic Preservation Committee Meeting 6:30 PM
END:VEVENT
END:VCALENDAR
