BEGIN:VCALENDAR
VERSION:2.0
PRODID:-//Sophicity/Tribune/Lithonia, GA
BEGIN:VEVENT
DTSTAMP:20260423T120914Z
UID:bc90973f-9ce3-420f-8b90-a9282563f984-4066
DTSTART:20230409T040000Z
DTEND:20230410T035900Z
CLASS:PUBLIC
SUMMARY:Easter Sunday
END:VEVENT
END:VCALENDAR
