BEGIN:VCALENDAR
VERSION:2.0
PRODID:-//Sophicity/Tribune/Lithonia, GA
BEGIN:VEVENT
DTSTAMP:20260423T115911Z
UID:bc90973f-9ce3-420f-8b90-a9282563f984-4065
DTSTART:20230407T120000Z
DTEND:20230407T210000Z
CLASS:PUBLIC
SUMMARY:Good Friday
END:VEVENT
END:VCALENDAR
