BEGIN:VCALENDAR
VERSION:2.0
PRODID:-//Sophicity/Tribune/Lithonia, GA
BEGIN:VEVENT
DTSTAMP:20260423T115911Z
UID:bc90973f-9ce3-420f-8b90-a9282563f984-4064
DTSTART:20230402T040000Z
DTEND:20230403T035900Z
CLASS:PUBLIC
SUMMARY:Palm Sunday
END:VEVENT
END:VCALENDAR
