BEGIN:VCALENDAR
VERSION:2.0
PRODID:-//Sophicity/Tribune/Lithonia, GA
BEGIN:VEVENT
DTSTAMP:20260423T120807Z
UID:bc90973f-9ce3-420f-8b90-a9282563f984-4063
DTSTART:20230401T040000Z
DTEND:20230402T035900Z
CLASS:PUBLIC
SUMMARY:April Fool's Day
END:VEVENT
END:VCALENDAR
