BEGIN:VCALENDAR
VERSION:2.0
PRODID:-//Sophicity/Tribune/Lithonia, GA
BEGIN:VEVENT
DTSTAMP:20260423T132948Z
UID:bc90973f-9ce3-420f-8b90-a9282563f984-4060
DTSTART:20230317T120000Z
DTEND:20230317T210000Z
CLASS:PUBLIC
SUMMARY:St. Patrick's Day
END:VEVENT
END:VCALENDAR
