BEGIN:VCALENDAR
VERSION:2.0
PRODID:-//Sophicity/Tribune/Lithonia, GA
BEGIN:VEVENT
DTSTAMP:20260423T175922Z
UID:bc90973f-9ce3-420f-8b90-a9282563f984-4055
DTSTART:20230808T213000Z
DTEND:20230808T223000Z
CLASS:PUBLIC
SUMMARY:LDDA Meeting 5:30 PM
END:VEVENT
END:VCALENDAR
