BEGIN:VCALENDAR
VERSION:2.0
PRODID:-//Sophicity/Tribune/Lithonia, GA
BEGIN:VEVENT
DTSTAMP:20260423T133036Z
UID:bc90973f-9ce3-420f-8b90-a9282563f984-4049
DTSTART:20230312T050000Z
DTEND:20230313T035900Z
CLASS:PUBLIC
SUMMARY:Daylight Saving Time Begins
END:VEVENT
END:VCALENDAR
