BEGIN:VCALENDAR
VERSION:2.0
PRODID:-//Sophicity/Tribune/Lithonia, GA
BEGIN:VEVENT
DTSTAMP:20260423T120034Z
UID:bc90973f-9ce3-420f-8b90-a9282563f984-4033
DTSTART:20230504T193000Z
DTEND:20230504T203000Z
CLASS:PUBLIC
SUMMARY:Advisory Committee 3:30 PM
END:VEVENT
END:VCALENDAR
