BEGIN:VCALENDAR
VERSION:2.0
PRODID:-//Sophicity/Tribune/Lithonia, GA
BEGIN:VEVENT
DTSTAMP:20260423T145148Z
UID:bc90973f-9ce3-420f-8b90-a9282563f984-4029
DTSTART:20230221T233000Z
DTEND:20230222T003000Z
CLASS:PUBLIC
SUMMARY:Historic Preservation Committee Meeting 6:30 PM
END:VEVENT
END:VCALENDAR
