BEGIN:VCALENDAR
VERSION:2.0
PRODID:-//Sophicity/Tribune/Lithonia, GA
BEGIN:VEVENT
DTSTAMP:20260423T162643Z
UID:bc90973f-9ce3-420f-8b90-a9282563f984-4028
DTSTART:20231218T223000Z
DTEND:20231218T233000Z
CLASS:PUBLIC
SUMMARY:City Council Work Session Meeting 5:30
END:VEVENT
END:VCALENDAR
