BEGIN:VCALENDAR
VERSION:2.0
PRODID:-//Sophicity/Tribune/Lithonia, GA
BEGIN:VEVENT
DTSTAMP:20260423T193418Z
UID:bc90973f-9ce3-420f-8b90-a9282563f984-4026
DTSTART:20231016T213000Z
DTEND:20231016T223000Z
CLASS:PUBLIC
SUMMARY:City Council Work Session Meeting 5:30
END:VEVENT
END:VCALENDAR
