BEGIN:VCALENDAR
VERSION:2.0
PRODID:-//Sophicity/Tribune/Lithonia, GA
BEGIN:VEVENT
DTSTAMP:20260423T162713Z
UID:bc90973f-9ce3-420f-8b90-a9282563f984-4023
DTSTART:20230717T213000Z
DTEND:20230717T223000Z
CLASS:PUBLIC
SUMMARY:City Council Work Session Meeting 5:30
END:VEVENT
END:VCALENDAR
