BEGIN:VCALENDAR
VERSION:2.0
PRODID:-//Sophicity/Tribune/Lithonia, GA
BEGIN:VEVENT
DTSTAMP:20260423T145212Z
UID:bc90973f-9ce3-420f-8b90-a9282563f984-4017
DTSTART:20230220T130000Z
DTEND:20230220T220000Z
CLASS:PUBLIC
SUMMARY:President's Day
END:VEVENT
END:VCALENDAR
