BEGIN:VCALENDAR
VERSION:2.0
PRODID:-//Sophicity/Tribune/Lithonia, GA
BEGIN:VEVENT
DTSTAMP:20260423T145355Z
UID:bc90973f-9ce3-420f-8b90-a9282563f984-4016
DTSTART:20230216T223000Z
DTEND:20230216T233000Z
CLASS:PUBLIC
SUMMARY:Lithonia Roundtable 5:30 PM
END:VEVENT
END:VCALENDAR
