BEGIN:VCALENDAR
VERSION:2.0
PRODID:-//Sophicity/Tribune/Lithonia, GA
BEGIN:VEVENT
DTSTAMP:20260423T162756Z
UID:bc90973f-9ce3-420f-8b90-a9282563f984-4009
DTSTART:20230117T223000Z
DTEND:20230117T233000Z
CLASS:PUBLIC
SUMMARY:City Council Work Session Meeting 5:30 PM
END:VEVENT
END:VCALENDAR
