BEGIN:VCALENDAR
VERSION:2.0
PRODID:-//Sophicity/Tribune/Lithonia, GA
BEGIN:VEVENT
DTSTAMP:20260423T162643Z
UID:bc90973f-9ce3-420f-8b90-a9282563f984-3985
DTSTART:20230116T130000Z
DTEND:20230116T220000Z
CLASS:PUBLIC
SUMMARY:Martin Luther King Jr. Day - OFFICES CLOSED
END:VEVENT
END:VCALENDAR
