BEGIN:VCALENDAR
VERSION:2.0
PRODID:-//Sophicity/Tribune/Lithonia, GA
BEGIN:VEVENT
DTSTAMP:20260423T210928Z
UID:bc90973f-9ce3-420f-8b90-a9282563f984-3962
DTSTART:20221016T140000Z
DTEND:20221017T030000Z
CLASS:PUBLIC
SUMMARY:The Sunday Escape Event
END:VEVENT
END:VCALENDAR
