BEGIN:VCALENDAR
VERSION:2.0
PRODID:-//Sophicity/Tribune/Lithonia, GA
BEGIN:VEVENT
DTSTAMP:20260423T210930Z
UID:bc90973f-9ce3-420f-8b90-a9282563f984-3956
DTSTART:20220925T130000Z
DTEND:20220926T020000Z
CLASS:PUBLIC
SUMMARY:Amphitheater - Collard Green Festival 
END:VEVENT
END:VCALENDAR
