BEGIN:VCALENDAR
VERSION:2.0
PRODID:-//Sophicity/Tribune/Lithonia, GA
BEGIN:VEVENT
DTSTAMP:20260423T210854Z
UID:bc90973f-9ce3-420f-8b90-a9282563f984-3955
DTSTART:20220924T160000Z
DTEND:20220925T010000Z
CLASS:PUBLIC
SUMMARY:Amphitheater - Masonic Picnic
END:VEVENT
END:VCALENDAR
