BEGIN:VCALENDAR
VERSION:2.0
PRODID:-//Sophicity/Tribune/Lithonia, GA
BEGIN:VEVENT
DTSTAMP:20260423T162820Z
UID:bc90973f-9ce3-420f-8b90-a9282563f984-3951
DTSTART:20220630T150000Z
DTEND:20220630T230000Z
CLASS:PUBLIC
SUMMARY:Lithonia High School Alumni Annual Picnic
END:VEVENT
END:VCALENDAR
